BEGIN:VCALENDAR
VERSION:2.0
PRODID:spatie/icalendar-generator
DESCRIPTION:Veranstaltungen von Schiedsrichtergruppe NÖ-Süd
X-WR-CALDESC:Veranstaltungen von Schiedsrichtergruppe NÖ-Süd
REFRESH-INTERVAL;VALUE=DURATION:PT1440M
X-PUBLISHED-TTL:PT1440M
BEGIN:VTIMEZONE
TZID:Europe/Vienna
BEGIN:STANDARD
DTSTART:20231029T030000Z
TZOFFSETFROM:+0200
TZOFFSETTO:+0100
END:STANDARD
BEGIN:DAYLIGHT
DTSTART:20240331T020000Z
TZOFFSETFROM:+0100
TZOFFSETTO:+0200
END:DAYLIGHT
END:VTIMEZONE
BEGIN:VTIMEZONE
TZID:UTC
BEGIN:STANDARD
DTSTART:20250724T082415Z
TZOFFSETFROM:+0000
TZOFFSETTO:+0000
END:STANDARD
END:VTIMEZONE
BEGIN:VEVENT
UID:133-81
DTSTAMP:20260420T082415Z
SUMMARY:Training
LOCATION:Sportplatz Ternitz Dunkelsteinerstr. 2  Ternitz  2630
ORGANIZER;CN=Christian Wetzelberger:MAILTO:schiri@wetzels.at
RRULE:FREQ=WEEKLY;UNTIL=20240611T000000Z
DTSTART;TZID=Europe/Vienna:20240416T184500
DTEND;TZID=Europe/Vienna:20240416T200000
X-ALT-DESC;FMTTYPE=TEXT/HTML:
CATEGORIES:General
URL;VALUE=URI:https://www.schiedsrichtergruppe-sued.com/?page_id=18&#038;mc
 _id=133&#038;vcal=133
METHOD:PUBLISH
END:VEVENT
END:VCALENDAR